BEGIN:VCALENDAR
VERSION:2.0
PRODID:-//Dimeji Shittu - ECPv6.15.20//NONSGML v1.0//EN
CALSCALE:GREGORIAN
METHOD:PUBLISH
X-ORIGINAL-URL:https://dimejishittu.com
X-WR-CALDESC:Events for Dimeji Shittu
REFRESH-INTERVAL;VALUE=DURATION:PT1H
X-Robots-Tag:noindex
X-PUBLISHED-TTL:PT1H
BEGIN:VTIMEZONE
TZID:UTC
BEGIN:STANDARD
TZOFFSETFROM:+0000
TZOFFSETTO:+0000
TZNAME:UTC
DTSTART:20240101T000000
END:STANDARD
END:VTIMEZONE
BEGIN:VEVENT
DTSTART;TZID=UTC:20251214T150000
DTEND;TZID=UTC:20251214T190000
DTSTAMP:20260420T091020
CREATED:20251109T210459Z
LAST-MODIFIED:20251109T210459Z
UID:335-1765724400-1765738800@dimejishittu.com
SUMMARY:Fivestar ABC Boxing Show
DESCRIPTION:🥊 FiveStar ABC Annual Show! 🎉Home of Team GB’s Dimeji Shittu\, we’re hosting an evening of great boxing\, delicious food\, good company\, and plenty of fun!Come cheer on our FiveStar young talents as they showcase their amazing skills in the ring. 💥🔥
URL:https://dimejishittu.com/event/fivestar-abc-boxing-show/
LOCATION:Fivestar ABC\, Gooshays Drive\, Harold Hill
END:VEVENT
BEGIN:VEVENT
DTSTART;TZID=UTC:20251123T170000
DTEND;TZID=UTC:20251123T190000
DTSTAMP:20260420T091020
CREATED:20251109T205813Z
LAST-MODIFIED:20251109T205813Z
UID:331-1763917200-1763924400@dimejishittu.com
SUMMARY:Harold Hill Christmas Lights Switch On
DESCRIPTION:🎄 Join us at the Harold Hill Christmas Light Switch-On! 🎅Watch Team GB boxer Dimeji Shittu and the FiveStar Boxing Club kids in action as they showcase their training routines and padwork skills. 💥Don’t miss the fun\, energy\, and festive spirit! ✨🥊
URL:https://dimejishittu.com/event/harold-hill-christmas-lights-switch-on/
LOCATION:Hildene Avenue Shopping Centre
END:VEVENT
BEGIN:VEVENT
DTSTART;TZID=UTC:20251116T080000
DTEND;TZID=UTC:20251120T170000
DTSTAMP:20260420T091020
CREATED:20251109T205318Z
LAST-MODIFIED:20251109T205318Z
UID:329-1763280000-1763658000@dimejishittu.com
SUMMARY:World Boxing Cup Finals
DESCRIPTION:The World Boxing Cup Finals were held in Greater Noida\, India\, from November 16–20\, 2025\, at the Shaheed Vijay Singh Pathik Sports Complex. Boxers from 18 countries competed in the season-ending event. Uzbekistan and Kazakhstan entered as the top-ranked countries in men’s Olympic-style boxing. 
URL:https://dimejishittu.com/event/world-boxing-cup-finals/
CATEGORIES:Tournaments and Competitions
END:VEVENT
END:VCALENDAR