BEGIN:VCALENDAR
VERSION:2.0
PRODID:-//Dimeji Shittu - ECPv6.15.20//NONSGML v1.0//EN
CALSCALE:GREGORIAN
METHOD:PUBLISH
X-WR-CALNAME:Dimeji Shittu
X-ORIGINAL-URL:https://dimejishittu.com
X-WR-CALDESC:Events for Dimeji Shittu
REFRESH-INTERVAL;VALUE=DURATION:PT1H
X-Robots-Tag:noindex
X-PUBLISHED-TTL:PT1H
BEGIN:VTIMEZONE
TZID:UTC
BEGIN:STANDARD
TZOFFSETFROM:+0000
TZOFFSETTO:+0000
TZNAME:UTC
DTSTART:20240101T000000
END:STANDARD
END:VTIMEZONE
BEGIN:VEVENT
DTSTART;TZID=UTC:20251116T080000
DTEND;TZID=UTC:20251120T170000
DTSTAMP:20260420T133553
CREATED:20251109T205318Z
LAST-MODIFIED:20251109T205318Z
UID:329-1763280000-1763658000@dimejishittu.com
SUMMARY:World Boxing Cup Finals
DESCRIPTION:The World Boxing Cup Finals were held in Greater Noida\, India\, from November 16–20\, 2025\, at the Shaheed Vijay Singh Pathik Sports Complex. Boxers from 18 countries competed in the season-ending event. Uzbekistan and Kazakhstan entered as the top-ranked countries in men’s Olympic-style boxing. 
URL:https://dimejishittu.com/event/world-boxing-cup-finals/
CATEGORIES:Tournaments and Competitions
END:VEVENT
END:VCALENDAR